BEGIN:VCALENDAR
VERSION:2.0
PRODID:-//Whalley Law - ECPv6.15.20//NONSGML v1.0//EN
CALSCALE:GREGORIAN
METHOD:PUBLISH
X-WR-CALNAME:Whalley Law
X-ORIGINAL-URL:https://www.whalley-law.com
X-WR-CALDESC:Events for Whalley Law
REFRESH-INTERVAL;VALUE=DURATION:PT1H
X-Robots-Tag:noindex
X-PUBLISHED-TTL:PT1H
BEGIN:VTIMEZONE
TZID:America/Los_Angeles
BEGIN:DAYLIGHT
TZOFFSETFROM:-0800
TZOFFSETTO:-0700
TZNAME:PDT
DTSTART:20230312T100000
END:DAYLIGHT
BEGIN:STANDARD
TZOFFSETFROM:-0700
TZOFFSETTO:-0800
TZNAME:PST
DTSTART:20231105T090000
END:STANDARD
BEGIN:DAYLIGHT
TZOFFSETFROM:-0800
TZOFFSETTO:-0700
TZNAME:PDT
DTSTART:20240310T100000
END:DAYLIGHT
BEGIN:STANDARD
TZOFFSETFROM:-0700
TZOFFSETTO:-0800
TZNAME:PST
DTSTART:20241103T090000
END:STANDARD
BEGIN:DAYLIGHT
TZOFFSETFROM:-0800
TZOFFSETTO:-0700
TZNAME:PDT
DTSTART:20250309T100000
END:DAYLIGHT
BEGIN:STANDARD
TZOFFSETFROM:-0700
TZOFFSETTO:-0800
TZNAME:PST
DTSTART:20251102T090000
END:STANDARD
END:VTIMEZONE
BEGIN:VEVENT
DTSTART;TZID=America/Los_Angeles:20241130T100000
DTEND;TZID=America/Los_Angeles:20241130T160000
DTSTAMP:20260425T124349
CREATED:20240918T181707Z
LAST-MODIFIED:20240918T181707Z
UID:10000112-1732960800-1732982400@www.whalley-law.com
SUMMARY:Holidays in the Northwest Market
DESCRIPTION:With over 80 vendors and food trucks\, there’s something for everyone—and it’s all with FREE ADMISSION and free parking! Mark your calendars for November 29th (12pm-6pm) and November 30th (10am-4pm). Don’t miss out on this expanded holiday shopping event
URL:https://www.whalley-law.com/event/holidays-in-the-northwest-market-2/
LOCATION:Thurston County Fair\, 3000 Pacific Ave SE\, Olympia\, WA\, 98501\, United States
CATEGORIES:Community Event,Tacoma Community Event
ATTACH;FMTTYPE=image/jpeg:https://www.whalley-law.com/wp-content/uploads/2024/09/Holidays-in-the-NW.jpg
END:VEVENT
BEGIN:VEVENT
DTSTART;TZID=America/Los_Angeles:20241130T090000
DTEND;TZID=America/Los_Angeles:20241130T090000
DTSTAMP:20260425T124349
CREATED:20240610T203623Z
LAST-MODIFIED:20240723T215150Z
UID:10000048-1732957200-1732957200@www.whalley-law.com
SUMMARY:Discovering Defiance: Drop in Hikes at Point Defiance
DESCRIPTION:Join locals for a leisurely hike with a Park Guide every Saturday\, beginning from the enchanting Rhododendron Garden at 9 am. The walks typically span 3 miles at a comfortable pace\, with the flexibility to adapt to participant interests and explore different routes each week.\nBest of all\, it’s free with no registration required. Simply show up prepared with water\, snacks\, weather-appropriate attire\, and any burning questions you may have for our knowledgeable Park Guide. \nhttps://www.metroparkstacoma.org/event/drop-in-hikes-at-point-defiance/
URL:https://www.whalley-law.com/event/discovering-defiance-drop-in-hikes-at-point-defiance/2024-11-30/
LOCATION:Point Defiance Park\, Five mile Rd\, Tacoma\, WA\, 98407\, United States
CATEGORIES:Community Event,Tacoma Community Event
ATTACH;FMTTYPE=image/jpeg:https://www.whalley-law.com/wp-content/uploads/2024/06/RDC_5050-copy-1024x684-1.jpg
END:VEVENT
BEGIN:VEVENT
DTSTART;TZID=America/Los_Angeles:20241129T120000
DTEND;TZID=America/Los_Angeles:20241129T180000
DTSTAMP:20260425T124349
CREATED:20240918T181559Z
LAST-MODIFIED:20240918T181559Z
UID:10000111-1732881600-1732903200@www.whalley-law.com
SUMMARY:Holidays in the Northwest Market
DESCRIPTION:With over 80 vendors and food trucks\, there’s something for everyone—and it’s all with FREE ADMISSION and free parking! Mark your calendars for November 29th (12pm-6pm) and November 30th (10am-4pm). Don’t miss out on this expanded holiday shopping event
URL:https://www.whalley-law.com/event/holidays-in-the-northwest-market/
LOCATION:Thurston County Fair\, 3000 Pacific Ave SE\, Olympia\, WA\, 98501\, United States
CATEGORIES:Community Event,Tacoma Community Event
ATTACH;FMTTYPE=image/jpeg:https://www.whalley-law.com/wp-content/uploads/2024/09/Holidays-in-the-NW.jpg
END:VEVENT
BEGIN:VEVENT
DTSTART;TZID=America/Los_Angeles:20241124T100000
DTEND;TZID=America/Los_Angeles:20241124T160000
DTSTAMP:20260425T124349
CREATED:20240918T174452Z
LAST-MODIFIED:20240918T174452Z
UID:10000110-1732442400-1732464000@www.whalley-law.com
SUMMARY:A very Merry Grinchmas
DESCRIPTION:Shop over 100 small businesses – Free Admission
URL:https://www.whalley-law.com/event/a-very-merry-grinchmas-2/
LOCATION:Angel of the Winds Arena\, 2000 Hewitt Ave\, Everett\, WA\, 98201\, United States
CATEGORIES:Community Event,Tacoma Community Event
ATTACH;FMTTYPE=image/jpeg:https://www.whalley-law.com/wp-content/uploads/2024/09/Merry-Grinchmas.jpg
END:VEVENT
BEGIN:VEVENT
DTSTART;TZID=America/Los_Angeles:20241123T100000
DTEND;TZID=America/Los_Angeles:20241123T180000
DTSTAMP:20260425T124349
CREATED:20240918T174304Z
LAST-MODIFIED:20240918T174528Z
UID:10000109-1732356000-1732384800@www.whalley-law.com
SUMMARY:A very Merry Grinchmas
DESCRIPTION:Shop over 100 small businesses – Free Admission
URL:https://www.whalley-law.com/event/a-very-merry-grinchmas/
LOCATION:Angel of the Winds Arena\, 2000 Hewitt Ave\, Everett\, WA\, 98201\, United States
CATEGORIES:Community Event,Tacoma Community Event
ATTACH;FMTTYPE=image/jpeg:https://www.whalley-law.com/wp-content/uploads/2024/09/Merry-Grinchmas.jpg
END:VEVENT
BEGIN:VEVENT
DTSTART;TZID=America/Los_Angeles:20241123T090000
DTEND;TZID=America/Los_Angeles:20241123T090000
DTSTAMP:20260425T124349
CREATED:20240610T203623Z
LAST-MODIFIED:20240723T215150Z
UID:10000047-1732352400-1732352400@www.whalley-law.com
SUMMARY:Discovering Defiance: Drop in Hikes at Point Defiance
DESCRIPTION:Join locals for a leisurely hike with a Park Guide every Saturday\, beginning from the enchanting Rhododendron Garden at 9 am. The walks typically span 3 miles at a comfortable pace\, with the flexibility to adapt to participant interests and explore different routes each week.\nBest of all\, it’s free with no registration required. Simply show up prepared with water\, snacks\, weather-appropriate attire\, and any burning questions you may have for our knowledgeable Park Guide. \nhttps://www.metroparkstacoma.org/event/drop-in-hikes-at-point-defiance/
URL:https://www.whalley-law.com/event/discovering-defiance-drop-in-hikes-at-point-defiance/2024-11-23/
LOCATION:Point Defiance Park\, Five mile Rd\, Tacoma\, WA\, 98407\, United States
CATEGORIES:Community Event,Tacoma Community Event
ATTACH;FMTTYPE=image/jpeg:https://www.whalley-law.com/wp-content/uploads/2024/06/RDC_5050-copy-1024x684-1.jpg
END:VEVENT
BEGIN:VEVENT
DTSTART;TZID=America/Los_Angeles:20241116T090000
DTEND;TZID=America/Los_Angeles:20241116T090000
DTSTAMP:20260425T124349
CREATED:20240610T203623Z
LAST-MODIFIED:20240723T215150Z
UID:10000046-1731747600-1731747600@www.whalley-law.com
SUMMARY:Discovering Defiance: Drop in Hikes at Point Defiance
DESCRIPTION:Join locals for a leisurely hike with a Park Guide every Saturday\, beginning from the enchanting Rhododendron Garden at 9 am. The walks typically span 3 miles at a comfortable pace\, with the flexibility to adapt to participant interests and explore different routes each week.\nBest of all\, it’s free with no registration required. Simply show up prepared with water\, snacks\, weather-appropriate attire\, and any burning questions you may have for our knowledgeable Park Guide. \nhttps://www.metroparkstacoma.org/event/drop-in-hikes-at-point-defiance/
URL:https://www.whalley-law.com/event/discovering-defiance-drop-in-hikes-at-point-defiance/2024-11-16/
LOCATION:Point Defiance Park\, Five mile Rd\, Tacoma\, WA\, 98407\, United States
CATEGORIES:Community Event,Tacoma Community Event
ATTACH;FMTTYPE=image/jpeg:https://www.whalley-law.com/wp-content/uploads/2024/06/RDC_5050-copy-1024x684-1.jpg
END:VEVENT
BEGIN:VEVENT
DTSTART;TZID=America/Los_Angeles:20241109T090000
DTEND;TZID=America/Los_Angeles:20241109T090000
DTSTAMP:20260425T124349
CREATED:20240610T203623Z
LAST-MODIFIED:20240723T215150Z
UID:10000045-1731142800-1731142800@www.whalley-law.com
SUMMARY:Discovering Defiance: Drop in Hikes at Point Defiance
DESCRIPTION:Join locals for a leisurely hike with a Park Guide every Saturday\, beginning from the enchanting Rhododendron Garden at 9 am. The walks typically span 3 miles at a comfortable pace\, with the flexibility to adapt to participant interests and explore different routes each week.\nBest of all\, it’s free with no registration required. Simply show up prepared with water\, snacks\, weather-appropriate attire\, and any burning questions you may have for our knowledgeable Park Guide. \nhttps://www.metroparkstacoma.org/event/drop-in-hikes-at-point-defiance/
URL:https://www.whalley-law.com/event/discovering-defiance-drop-in-hikes-at-point-defiance/2024-11-09/
LOCATION:Point Defiance Park\, Five mile Rd\, Tacoma\, WA\, 98407\, United States
CATEGORIES:Community Event,Tacoma Community Event
ATTACH;FMTTYPE=image/jpeg:https://www.whalley-law.com/wp-content/uploads/2024/06/RDC_5050-copy-1024x684-1.jpg
END:VEVENT
BEGIN:VEVENT
DTSTART;TZID=America/Los_Angeles:20241108T190000
DTEND;TZID=America/Los_Angeles:20241110T235900
DTSTAMP:20260425T124349
CREATED:20240916T201103Z
LAST-MODIFIED:20240916T201129Z
UID:10000092-1731092400-1731283140@www.whalley-law.com
SUMMARY:Monster Jam
DESCRIPTION:
URL:https://www.whalley-law.com/event/monster-jam/
LOCATION:Spokane Arena\, 720 W Mallon Ave\, Spokane\, WA\, 99201\, United States
CATEGORIES:Community Event,Spokane Community Event
END:VEVENT
BEGIN:VEVENT
DTSTART;TZID=America/Los_Angeles:20241102T130000
DTEND;TZID=America/Los_Angeles:20241102T190000
DTSTAMP:20260425T124349
CREATED:20240918T174126Z
LAST-MODIFIED:20240918T174126Z
UID:10000108-1730552400-1730574000@www.whalley-law.com
SUMMARY:Brewallup 2024
DESCRIPTION:Celebrate the Puyallup Valley’s hops heritage at Brewallup! Enjoy craft beer\, delicious food truck fare\, and live music. It’s the perfect way to gather and savor local flavors. Don’t miss out!
URL:https://www.whalley-law.com/event/brewallup-2024/
LOCATION:Washington State Fair\, 110 9th Ave SW\, Puyallup\, WA\, 98371\, United States
CATEGORIES:Community Event,Tacoma Community Event
ATTACH;FMTTYPE=image/jpeg:https://www.whalley-law.com/wp-content/uploads/2024/09/Brewallup.jpg
END:VEVENT
BEGIN:VEVENT
DTSTART;TZID=America/Los_Angeles:20241102T090000
DTEND;TZID=America/Los_Angeles:20241102T090000
DTSTAMP:20260425T124349
CREATED:20240610T203623Z
LAST-MODIFIED:20240723T215150Z
UID:10000044-1730538000-1730538000@www.whalley-law.com
SUMMARY:Discovering Defiance: Drop in Hikes at Point Defiance
DESCRIPTION:Join locals for a leisurely hike with a Park Guide every Saturday\, beginning from the enchanting Rhododendron Garden at 9 am. The walks typically span 3 miles at a comfortable pace\, with the flexibility to adapt to participant interests and explore different routes each week.\nBest of all\, it’s free with no registration required. Simply show up prepared with water\, snacks\, weather-appropriate attire\, and any burning questions you may have for our knowledgeable Park Guide. \nhttps://www.metroparkstacoma.org/event/drop-in-hikes-at-point-defiance/
URL:https://www.whalley-law.com/event/discovering-defiance-drop-in-hikes-at-point-defiance/2024-11-02/
LOCATION:Point Defiance Park\, Five mile Rd\, Tacoma\, WA\, 98407\, United States
CATEGORIES:Community Event,Tacoma Community Event
ATTACH;FMTTYPE=image/jpeg:https://www.whalley-law.com/wp-content/uploads/2024/06/RDC_5050-copy-1024x684-1.jpg
END:VEVENT
BEGIN:VEVENT
DTSTART;TZID=America/Los_Angeles:20241101T190500
DTEND;TZID=America/Los_Angeles:20241101T233000
DTSTAMP:20260425T124349
CREATED:20240916T200955Z
LAST-MODIFIED:20240916T200955Z
UID:10000091-1730487900-1730503800@www.whalley-law.com
SUMMARY:Spokane Chiefs Game
DESCRIPTION:
URL:https://www.whalley-law.com/event/spokane-chiefs-game-2/
LOCATION:Spokane Arena\, 720 W Mallon Ave\, Spokane\, WA\, 99201\, United States
CATEGORIES:Community Event,Spokane Community Event
ATTACH;FMTTYPE=image/jpeg:https://www.whalley-law.com/wp-content/uploads/2024/09/Chiefs.jpg
END:VEVENT
BEGIN:VEVENT
DTSTART;TZID=America/Los_Angeles:20241031T100000
DTEND;TZID=America/Los_Angeles:20241031T140000
DTSTAMP:20260425T124349
CREATED:20240918T172209Z
LAST-MODIFIED:20240918T172756Z
UID:10000103-1730368800-1730383200@www.whalley-law.com
SUMMARY:Tacoma Farmers Market – Broadway
DESCRIPTION:Free Admission \nExplore the Tacoma Farmers Market for fresh produce\, local goods\, and delicious food. Support local vendors and enjoy a lively community atmosphere
URL:https://www.whalley-law.com/event/tacoma-farmers-market-broadway/2024-10-31/
LOCATION:902 Market Street\, 902 Market St\, Tacoma\, WA\, 98402\, United States
CATEGORIES:Community Event,Tacoma Community Event
ATTACH;FMTTYPE=image/jpeg:https://www.whalley-law.com/wp-content/uploads/2024/09/Tacoma-Farmers-Market.jpg
END:VEVENT
BEGIN:VEVENT
DTSTART;TZID=America/Los_Angeles:20241026T103000
DTEND;TZID=America/Los_Angeles:20241027T163000
DTSTAMP:20260425T124349
CREATED:20240918T172648Z
LAST-MODIFIED:20240918T172648Z
UID:10000106-1729938600-1730046600@www.whalley-law.com
SUMMARY:Halloween Train
DESCRIPTION:Every Sat and Sun October 12-27th 10:30am – 4:30pm \nEnjoy the changing colors on a fall train ride through the scenic upper Snoqualmie Valley!
URL:https://www.whalley-law.com/event/halloween-train/2024-10-26/
CATEGORIES:Community Event,Tacoma Community Event
ATTACH;FMTTYPE=image/jpeg:https://www.whalley-law.com/wp-content/uploads/2024/09/Halloween-Train.jpg
END:VEVENT
BEGIN:VEVENT
DTSTART;TZID=America/Los_Angeles:20241026T100000
DTEND;TZID=America/Los_Angeles:20241026T140000
DTSTAMP:20260425T124349
CREATED:20240916T195838Z
LAST-MODIFIED:20240916T195838Z
UID:10000090-1729936800-1729951200@www.whalley-law.com
SUMMARY:Market St Tricks or Treasures
DESCRIPTION:
URL:https://www.whalley-law.com/event/market-st-tricks-or-treasures/
LOCATION:5218 N Market St\, 5218 N Market St\, Spokane\, WA\, 99217\, United States
CATEGORIES:Community Event,Spokane Community Event
END:VEVENT
BEGIN:VEVENT
DTSTART;TZID=America/Los_Angeles:20241026T090000
DTEND;TZID=America/Los_Angeles:20241026T140000
DTSTAMP:20260425T124349
CREATED:20240918T173831Z
LAST-MODIFIED:20240918T173831Z
UID:10000107-1729933200-1729951200@www.whalley-law.com
SUMMARY:Haunted Farmers Market
DESCRIPTION:Corner of S 54th & S Tacoma Way\nEnjoy a Halloween themed farmers market!
URL:https://www.whalley-law.com/event/haunted-farmers-market/
CATEGORIES:Community Event,Tacoma Community Event
ATTACH;FMTTYPE=image/jpeg:https://www.whalley-law.com/wp-content/uploads/2024/09/Haunted-Farmers-Market.jpg
END:VEVENT
BEGIN:VEVENT
DTSTART;TZID=America/Los_Angeles:20241026T090000
DTEND;TZID=America/Los_Angeles:20241026T090000
DTSTAMP:20260425T124350
CREATED:20240610T203623Z
LAST-MODIFIED:20240723T215150Z
UID:10000043-1729933200-1729933200@www.whalley-law.com
SUMMARY:Discovering Defiance: Drop in Hikes at Point Defiance
DESCRIPTION:Join locals for a leisurely hike with a Park Guide every Saturday\, beginning from the enchanting Rhododendron Garden at 9 am. The walks typically span 3 miles at a comfortable pace\, with the flexibility to adapt to participant interests and explore different routes each week.\nBest of all\, it’s free with no registration required. Simply show up prepared with water\, snacks\, weather-appropriate attire\, and any burning questions you may have for our knowledgeable Park Guide. \nhttps://www.metroparkstacoma.org/event/drop-in-hikes-at-point-defiance/
URL:https://www.whalley-law.com/event/discovering-defiance-drop-in-hikes-at-point-defiance/2024-10-26/
LOCATION:Point Defiance Park\, Five mile Rd\, Tacoma\, WA\, 98407\, United States
CATEGORIES:Community Event,Tacoma Community Event
ATTACH;FMTTYPE=image/jpeg:https://www.whalley-law.com/wp-content/uploads/2024/06/RDC_5050-copy-1024x684-1.jpg
END:VEVENT
BEGIN:VEVENT
DTSTART;TZID=America/Los_Angeles:20241024T100000
DTEND;TZID=America/Los_Angeles:20241024T140000
DTSTAMP:20260425T124350
CREATED:20240918T172209Z
LAST-MODIFIED:20240918T172756Z
UID:10000102-1729764000-1729778400@www.whalley-law.com
SUMMARY:Tacoma Farmers Market – Broadway
DESCRIPTION:Free Admission \nExplore the Tacoma Farmers Market for fresh produce\, local goods\, and delicious food. Support local vendors and enjoy a lively community atmosphere
URL:https://www.whalley-law.com/event/tacoma-farmers-market-broadway/2024-10-24/
LOCATION:902 Market Street\, 902 Market St\, Tacoma\, WA\, 98402\, United States
CATEGORIES:Community Event,Tacoma Community Event
ATTACH;FMTTYPE=image/jpeg:https://www.whalley-law.com/wp-content/uploads/2024/09/Tacoma-Farmers-Market.jpg
END:VEVENT
BEGIN:VEVENT
DTSTART;TZID=America/Los_Angeles:20241019T103000
DTEND;TZID=America/Los_Angeles:20241020T163000
DTSTAMP:20260425T124350
CREATED:20240918T172648Z
LAST-MODIFIED:20240918T172648Z
UID:10000105-1729333800-1729441800@www.whalley-law.com
SUMMARY:Halloween Train
DESCRIPTION:Every Sat and Sun October 12-27th 10:30am – 4:30pm \nEnjoy the changing colors on a fall train ride through the scenic upper Snoqualmie Valley!
URL:https://www.whalley-law.com/event/halloween-train/2024-10-19/
CATEGORIES:Community Event,Tacoma Community Event
ATTACH;FMTTYPE=image/jpeg:https://www.whalley-law.com/wp-content/uploads/2024/09/Halloween-Train.jpg
END:VEVENT
BEGIN:VEVENT
DTSTART;TZID=America/Los_Angeles:20241019T090000
DTEND;TZID=America/Los_Angeles:20241019T090000
DTSTAMP:20260425T124350
CREATED:20240610T203623Z
LAST-MODIFIED:20240723T215150Z
UID:10000042-1729328400-1729328400@www.whalley-law.com
SUMMARY:Discovering Defiance: Drop in Hikes at Point Defiance
DESCRIPTION:Join locals for a leisurely hike with a Park Guide every Saturday\, beginning from the enchanting Rhododendron Garden at 9 am. The walks typically span 3 miles at a comfortable pace\, with the flexibility to adapt to participant interests and explore different routes each week.\nBest of all\, it’s free with no registration required. Simply show up prepared with water\, snacks\, weather-appropriate attire\, and any burning questions you may have for our knowledgeable Park Guide. \nhttps://www.metroparkstacoma.org/event/drop-in-hikes-at-point-defiance/
URL:https://www.whalley-law.com/event/discovering-defiance-drop-in-hikes-at-point-defiance/2024-10-19/
LOCATION:Point Defiance Park\, Five mile Rd\, Tacoma\, WA\, 98407\, United States
CATEGORIES:Community Event,Tacoma Community Event
ATTACH;FMTTYPE=image/jpeg:https://www.whalley-law.com/wp-content/uploads/2024/06/RDC_5050-copy-1024x684-1.jpg
END:VEVENT
BEGIN:VEVENT
DTSTART;TZID=America/Los_Angeles:20241017T100000
DTEND;TZID=America/Los_Angeles:20241017T140000
DTSTAMP:20260425T124350
CREATED:20240918T172209Z
LAST-MODIFIED:20240918T172756Z
UID:10000101-1729159200-1729173600@www.whalley-law.com
SUMMARY:Tacoma Farmers Market – Broadway
DESCRIPTION:Free Admission \nExplore the Tacoma Farmers Market for fresh produce\, local goods\, and delicious food. Support local vendors and enjoy a lively community atmosphere
URL:https://www.whalley-law.com/event/tacoma-farmers-market-broadway/2024-10-17/
LOCATION:902 Market Street\, 902 Market St\, Tacoma\, WA\, 98402\, United States
CATEGORIES:Community Event,Tacoma Community Event
ATTACH;FMTTYPE=image/jpeg:https://www.whalley-law.com/wp-content/uploads/2024/09/Tacoma-Farmers-Market.jpg
END:VEVENT
BEGIN:VEVENT
DTSTART;TZID=America/Los_Angeles:20241012T103000
DTEND;TZID=America/Los_Angeles:20241013T163000
DTSTAMP:20260425T124350
CREATED:20240918T172648Z
LAST-MODIFIED:20240918T172648Z
UID:10000104-1728729000-1728837000@www.whalley-law.com
SUMMARY:Halloween Train
DESCRIPTION:Every Sat and Sun October 12-27th 10:30am – 4:30pm \nEnjoy the changing colors on a fall train ride through the scenic upper Snoqualmie Valley!
URL:https://www.whalley-law.com/event/halloween-train/2024-10-12/
CATEGORIES:Community Event,Tacoma Community Event
ATTACH;FMTTYPE=image/jpeg:https://www.whalley-law.com/wp-content/uploads/2024/09/Halloween-Train.jpg
END:VEVENT
BEGIN:VEVENT
DTSTART;TZID=America/Los_Angeles:20241012T090000
DTEND;TZID=America/Los_Angeles:20241012T090000
DTSTAMP:20260425T124350
CREATED:20240610T203623Z
LAST-MODIFIED:20240723T215150Z
UID:10000041-1728723600-1728723600@www.whalley-law.com
SUMMARY:Discovering Defiance: Drop in Hikes at Point Defiance
DESCRIPTION:Join locals for a leisurely hike with a Park Guide every Saturday\, beginning from the enchanting Rhododendron Garden at 9 am. The walks typically span 3 miles at a comfortable pace\, with the flexibility to adapt to participant interests and explore different routes each week.\nBest of all\, it’s free with no registration required. Simply show up prepared with water\, snacks\, weather-appropriate attire\, and any burning questions you may have for our knowledgeable Park Guide. \nhttps://www.metroparkstacoma.org/event/drop-in-hikes-at-point-defiance/
URL:https://www.whalley-law.com/event/discovering-defiance-drop-in-hikes-at-point-defiance/2024-10-12/
LOCATION:Point Defiance Park\, Five mile Rd\, Tacoma\, WA\, 98407\, United States
CATEGORIES:Community Event,Tacoma Community Event
ATTACH;FMTTYPE=image/jpeg:https://www.whalley-law.com/wp-content/uploads/2024/06/RDC_5050-copy-1024x684-1.jpg
END:VEVENT
BEGIN:VEVENT
DTSTART;TZID=America/Los_Angeles:20241010T100000
DTEND;TZID=America/Los_Angeles:20241010T140000
DTSTAMP:20260425T124350
CREATED:20240918T172209Z
LAST-MODIFIED:20240918T172756Z
UID:10000100-1728554400-1728568800@www.whalley-law.com
SUMMARY:Tacoma Farmers Market – Broadway
DESCRIPTION:Free Admission \nExplore the Tacoma Farmers Market for fresh produce\, local goods\, and delicious food. Support local vendors and enjoy a lively community atmosphere
URL:https://www.whalley-law.com/event/tacoma-farmers-market-broadway/2024-10-10/
LOCATION:902 Market Street\, 902 Market St\, Tacoma\, WA\, 98402\, United States
CATEGORIES:Community Event,Tacoma Community Event
ATTACH;FMTTYPE=image/jpeg:https://www.whalley-law.com/wp-content/uploads/2024/09/Tacoma-Farmers-Market.jpg
END:VEVENT
BEGIN:VEVENT
DTSTART;TZID=America/Los_Angeles:20241009T150000
DTEND;TZID=America/Los_Angeles:20241009T190000
DTSTAMP:20260425T124350
CREATED:20240916T194414Z
LAST-MODIFIED:20240916T194414Z
UID:10000086-1728486000-1728500400@www.whalley-law.com
SUMMARY:Millwood Farmers Market
DESCRIPTION:
URL:https://www.whalley-law.com/event/millwood-farmers-market-5/
LOCATION:Millwood Farmers Market\, 9103 E Frederick Ave\, Millwood\, WA\, 99206\, United States
CATEGORIES:Community Event,Spokane Community Event
ATTACH;FMTTYPE=image/jpeg:https://www.whalley-law.com/wp-content/uploads/2024/06/mwfm.jpg
END:VEVENT
BEGIN:VEVENT
DTSTART;TZID=America/Los_Angeles:20241009T150000
DTEND;TZID=America/Los_Angeles:20241009T190000
DTSTAMP:20260425T124350
CREATED:20240610T193617Z
LAST-MODIFIED:20240723T220609Z
UID:10000073-1728486000-1728500400@www.whalley-law.com
SUMMARY:Millwood Farmers Market
DESCRIPTION:Bringing Our Community Together with Local Farmers\, Artisans & Food Vendors to provide a Wonderful Market Experience in Millwood: https://farmersmarket.millwoodnow.org/finding-us/
URL:https://www.whalley-law.com/event/millwood-farmers-market-3/2024-10-09/
LOCATION:Millwood Farmers Market\, 9103 E Frederick Ave\, Millwood\, WA\, 99206\, United States
CATEGORIES:Community Event,Spokane Community Event
ATTACH;FMTTYPE=image/jpeg:https://www.whalley-law.com/wp-content/uploads/2024/06/mwfm.jpg
END:VEVENT
BEGIN:VEVENT
DTSTART;TZID=America/Los_Angeles:20241005T180500
DTEND;TZID=America/Los_Angeles:20241005T233000
DTSTAMP:20260425T124350
CREATED:20240916T195554Z
LAST-MODIFIED:20240916T195554Z
UID:10000089-1728151500-1728171000@www.whalley-law.com
SUMMARY:Spokane Chiefs Game
DESCRIPTION:
URL:https://www.whalley-law.com/event/spokane-chiefs-game/
LOCATION:Spokane Arena\, 720 W Mallon Ave\, Spokane\, WA\, 99201\, United States
CATEGORIES:Community Event,Spokane Community Event
ATTACH;FMTTYPE=image/jpeg:https://www.whalley-law.com/wp-content/uploads/2024/09/Chiefs.jpg
END:VEVENT
BEGIN:VEVENT
DTSTART;TZID=America/Los_Angeles:20241005T110000
DTEND;TZID=America/Los_Angeles:20241005T170000
DTSTAMP:20260425T124350
CREATED:20240916T194932Z
LAST-MODIFIED:20240916T194932Z
UID:10000088-1728126000-1728147600@www.whalley-law.com
SUMMARY:WSECU Fall Fest 2024
DESCRIPTION:
URL:https://www.whalley-law.com/event/wsecu-fall-fest-2024/
LOCATION:504 W Spokane Falls Blvd\, Spokane WA\, 504 W Spokane Falls Blvd\, Spokane\, WA\, 99201\, United States
CATEGORIES:Community Event,Spokane Community Event
ATTACH;FMTTYPE=image/jpeg:https://www.whalley-law.com/wp-content/uploads/2024/09/Spokane-Fall-Fest.jpg
END:VEVENT
BEGIN:VEVENT
DTSTART;TZID=America/Los_Angeles:20241005T090000
DTEND;TZID=America/Los_Angeles:20241005T090000
DTSTAMP:20260425T124350
CREATED:20240610T203623Z
LAST-MODIFIED:20240723T215150Z
UID:10000040-1728118800-1728118800@www.whalley-law.com
SUMMARY:Discovering Defiance: Drop in Hikes at Point Defiance
DESCRIPTION:Join locals for a leisurely hike with a Park Guide every Saturday\, beginning from the enchanting Rhododendron Garden at 9 am. The walks typically span 3 miles at a comfortable pace\, with the flexibility to adapt to participant interests and explore different routes each week.\nBest of all\, it’s free with no registration required. Simply show up prepared with water\, snacks\, weather-appropriate attire\, and any burning questions you may have for our knowledgeable Park Guide. \nhttps://www.metroparkstacoma.org/event/drop-in-hikes-at-point-defiance/
URL:https://www.whalley-law.com/event/discovering-defiance-drop-in-hikes-at-point-defiance/2024-10-05/
LOCATION:Point Defiance Park\, Five mile Rd\, Tacoma\, WA\, 98407\, United States
CATEGORIES:Community Event,Tacoma Community Event
ATTACH;FMTTYPE=image/jpeg:https://www.whalley-law.com/wp-content/uploads/2024/06/RDC_5050-copy-1024x684-1.jpg
END:VEVENT
BEGIN:VEVENT
DTSTART;TZID=America/Los_Angeles:20241003T100000
DTEND;TZID=America/Los_Angeles:20241003T140000
DTSTAMP:20260425T124350
CREATED:20240918T172209Z
LAST-MODIFIED:20240918T172756Z
UID:10000099-1727949600-1727964000@www.whalley-law.com
SUMMARY:Tacoma Farmers Market – Broadway
DESCRIPTION:Free Admission \nExplore the Tacoma Farmers Market for fresh produce\, local goods\, and delicious food. Support local vendors and enjoy a lively community atmosphere
URL:https://www.whalley-law.com/event/tacoma-farmers-market-broadway/2024-10-03/
LOCATION:902 Market Street\, 902 Market St\, Tacoma\, WA\, 98402\, United States
CATEGORIES:Community Event,Tacoma Community Event
ATTACH;FMTTYPE=image/jpeg:https://www.whalley-law.com/wp-content/uploads/2024/09/Tacoma-Farmers-Market.jpg
END:VEVENT
END:VCALENDAR