BEGIN:VCALENDAR
VERSION:2.0
PRODID:-//Whalley Law - ECPv6.15.20//NONSGML v1.0//EN
CALSCALE:GREGORIAN
METHOD:PUBLISH
X-WR-CALNAME:Whalley Law
X-ORIGINAL-URL:https://www.whalley-law.com
X-WR-CALDESC:Events for Whalley Law
REFRESH-INTERVAL;VALUE=DURATION:PT1H
X-Robots-Tag:noindex
X-PUBLISHED-TTL:PT1H
BEGIN:VTIMEZONE
TZID:America/Los_Angeles
BEGIN:DAYLIGHT
TZOFFSETFROM:-0800
TZOFFSETTO:-0700
TZNAME:PDT
DTSTART:20230312T100000
END:DAYLIGHT
BEGIN:STANDARD
TZOFFSETFROM:-0700
TZOFFSETTO:-0800
TZNAME:PST
DTSTART:20231105T090000
END:STANDARD
BEGIN:DAYLIGHT
TZOFFSETFROM:-0800
TZOFFSETTO:-0700
TZNAME:PDT
DTSTART:20240310T100000
END:DAYLIGHT
BEGIN:STANDARD
TZOFFSETFROM:-0700
TZOFFSETTO:-0800
TZNAME:PST
DTSTART:20241103T090000
END:STANDARD
BEGIN:DAYLIGHT
TZOFFSETFROM:-0800
TZOFFSETTO:-0700
TZNAME:PDT
DTSTART:20250309T100000
END:DAYLIGHT
BEGIN:STANDARD
TZOFFSETFROM:-0700
TZOFFSETTO:-0800
TZNAME:PST
DTSTART:20251102T090000
END:STANDARD
END:VTIMEZONE
BEGIN:VEVENT
DTSTART;TZID=America/Los_Angeles:20240823T150000
DTEND;TZID=America/Los_Angeles:20240823T190000
DTSTAMP:20260425T212019
CREATED:20240610T202734Z
LAST-MODIFIED:20240723T212949Z
UID:10000023-1724425200-1724439600@www.whalley-law.com
SUMMARY:Orting Farmers Market
DESCRIPTION:Farmers market where you can explore the Orting community and meet local vendors. \nWhalley Law will be attending on 6/28/24 and 7/5/2024.
URL:https://www.whalley-law.com/event/orting-farmers-market/2024-08-23/
LOCATION:Orting Farmers Market\, 101 Washington Ave N\, Orting\, WA\, 98360\, United States
CATEGORIES:Community Event,Tacoma Community Event
ATTACH;FMTTYPE=image/jpeg:https://www.whalley-law.com/wp-content/uploads/2024/06/ortingfmlogo-final-orig_2.jpg
END:VEVENT
BEGIN:VEVENT
DTSTART;TZID=America/Los_Angeles:20240817T090000
DTEND;TZID=America/Los_Angeles:20240817T090000
DTSTAMP:20260425T212019
CREATED:20240610T203623Z
LAST-MODIFIED:20240723T215150Z
UID:10000033-1723885200-1723885200@www.whalley-law.com
SUMMARY:Discovering Defiance: Drop in Hikes at Point Defiance
DESCRIPTION:Join locals for a leisurely hike with a Park Guide every Saturday\, beginning from the enchanting Rhododendron Garden at 9 am. The walks typically span 3 miles at a comfortable pace\, with the flexibility to adapt to participant interests and explore different routes each week.\nBest of all\, it’s free with no registration required. Simply show up prepared with water\, snacks\, weather-appropriate attire\, and any burning questions you may have for our knowledgeable Park Guide. \nhttps://www.metroparkstacoma.org/event/drop-in-hikes-at-point-defiance/
URL:https://www.whalley-law.com/event/discovering-defiance-drop-in-hikes-at-point-defiance/2024-08-17/
LOCATION:Point Defiance Park\, Five mile Rd\, Tacoma\, WA\, 98407\, United States
CATEGORIES:Community Event,Tacoma Community Event
ATTACH;FMTTYPE=image/jpeg:https://www.whalley-law.com/wp-content/uploads/2024/06/RDC_5050-copy-1024x684-1.jpg
END:VEVENT
BEGIN:VEVENT
DTSTART;VALUE=DATE:20240817
DTEND;VALUE=DATE:20240818
DTSTAMP:20260425T212020
CREATED:20240610T203954Z
LAST-MODIFIED:20240723T214528Z
UID:10000024-1723881600-1723914000@www.whalley-law.com
SUMMARY:Tough Mudder
DESCRIPTION:Tough Mudder is an endurance event series in which participants attempt 10-to-12-mile-long (16 to 19 km) obstacle courses. \nTickets and Start Times Available On: https://toughmudder.com/events/seattle/
URL:https://www.whalley-law.com/event/tough-mudder/2024-08-17/2/
LOCATION:Palmer Coking Coal Company\, 31615 Lake Sawyer Rd SE\, Black Diamond\, WA\, 98010\, United States
CATEGORIES:Community Event,Tacoma Community Event
END:VEVENT
BEGIN:VEVENT
DTSTART;VALUE=DATE:20240817
DTEND;VALUE=DATE:20240819
DTSTAMP:20260425T212020
CREATED:20240610T203954Z
LAST-MODIFIED:20240723T214528Z
UID:10000011-1723852800-1724025599@www.whalley-law.com
SUMMARY:Tough Mudder
DESCRIPTION:Tough Mudder is an endurance event series in which participants attempt 10-to-12-mile-long (16 to 19 km) obstacle courses. \nTickets and Start Times Available On: https://toughmudder.com/events/seattle/
URL:https://www.whalley-law.com/event/tough-mudder/2024-08-17/1/
LOCATION:Palmer Coking Coal Company\, 31615 Lake Sawyer Rd SE\, Black Diamond\, WA\, 98010\, United States
CATEGORIES:Community Event,Tacoma Community Event
END:VEVENT
BEGIN:VEVENT
DTSTART;TZID=America/Los_Angeles:20240816T150000
DTEND;TZID=America/Los_Angeles:20240816T190000
DTSTAMP:20260425T212020
CREATED:20240610T202734Z
LAST-MODIFIED:20240723T212949Z
UID:10000022-1723820400-1723834800@www.whalley-law.com
SUMMARY:Orting Farmers Market
DESCRIPTION:Farmers market where you can explore the Orting community and meet local vendors. \nWhalley Law will be attending on 6/28/24 and 7/5/2024.
URL:https://www.whalley-law.com/event/orting-farmers-market/2024-08-16/
LOCATION:Orting Farmers Market\, 101 Washington Ave N\, Orting\, WA\, 98360\, United States
CATEGORIES:Community Event,Tacoma Community Event
ATTACH;FMTTYPE=image/jpeg:https://www.whalley-law.com/wp-content/uploads/2024/06/ortingfmlogo-final-orig_2.jpg
END:VEVENT
BEGIN:VEVENT
DTSTART;TZID=America/Los_Angeles:20240810T090000
DTEND;TZID=America/Los_Angeles:20240810T090000
DTSTAMP:20260425T212020
CREATED:20240610T203623Z
LAST-MODIFIED:20240723T215150Z
UID:10000032-1723280400-1723280400@www.whalley-law.com
SUMMARY:Discovering Defiance: Drop in Hikes at Point Defiance
DESCRIPTION:Join locals for a leisurely hike with a Park Guide every Saturday\, beginning from the enchanting Rhododendron Garden at 9 am. The walks typically span 3 miles at a comfortable pace\, with the flexibility to adapt to participant interests and explore different routes each week.\nBest of all\, it’s free with no registration required. Simply show up prepared with water\, snacks\, weather-appropriate attire\, and any burning questions you may have for our knowledgeable Park Guide. \nhttps://www.metroparkstacoma.org/event/drop-in-hikes-at-point-defiance/
URL:https://www.whalley-law.com/event/discovering-defiance-drop-in-hikes-at-point-defiance/2024-08-10/
LOCATION:Point Defiance Park\, Five mile Rd\, Tacoma\, WA\, 98407\, United States
CATEGORIES:Community Event,Tacoma Community Event
ATTACH;FMTTYPE=image/jpeg:https://www.whalley-law.com/wp-content/uploads/2024/06/RDC_5050-copy-1024x684-1.jpg
END:VEVENT
BEGIN:VEVENT
DTSTART;TZID=America/Los_Angeles:20240809T150000
DTEND;TZID=America/Los_Angeles:20240809T190000
DTSTAMP:20260425T212020
CREATED:20240610T202734Z
LAST-MODIFIED:20240723T212949Z
UID:10000021-1723215600-1723230000@www.whalley-law.com
SUMMARY:Orting Farmers Market
DESCRIPTION:Farmers market where you can explore the Orting community and meet local vendors. \nWhalley Law will be attending on 6/28/24 and 7/5/2024.
URL:https://www.whalley-law.com/event/orting-farmers-market/2024-08-09/
LOCATION:Orting Farmers Market\, 101 Washington Ave N\, Orting\, WA\, 98360\, United States
CATEGORIES:Community Event,Tacoma Community Event
ATTACH;FMTTYPE=image/jpeg:https://www.whalley-law.com/wp-content/uploads/2024/06/ortingfmlogo-final-orig_2.jpg
END:VEVENT
BEGIN:VEVENT
DTSTART;TZID=America/Los_Angeles:20240803T090000
DTEND;TZID=America/Los_Angeles:20240803T090000
DTSTAMP:20260425T212020
CREATED:20240610T203623Z
LAST-MODIFIED:20240723T215150Z
UID:10000031-1722675600-1722675600@www.whalley-law.com
SUMMARY:Discovering Defiance: Drop in Hikes at Point Defiance
DESCRIPTION:Join locals for a leisurely hike with a Park Guide every Saturday\, beginning from the enchanting Rhododendron Garden at 9 am. The walks typically span 3 miles at a comfortable pace\, with the flexibility to adapt to participant interests and explore different routes each week.\nBest of all\, it’s free with no registration required. Simply show up prepared with water\, snacks\, weather-appropriate attire\, and any burning questions you may have for our knowledgeable Park Guide. \nhttps://www.metroparkstacoma.org/event/drop-in-hikes-at-point-defiance/
URL:https://www.whalley-law.com/event/discovering-defiance-drop-in-hikes-at-point-defiance/2024-08-03/
LOCATION:Point Defiance Park\, Five mile Rd\, Tacoma\, WA\, 98407\, United States
CATEGORIES:Community Event,Tacoma Community Event
ATTACH;FMTTYPE=image/jpeg:https://www.whalley-law.com/wp-content/uploads/2024/06/RDC_5050-copy-1024x684-1.jpg
END:VEVENT
BEGIN:VEVENT
DTSTART;TZID=America/Los_Angeles:20240802T150000
DTEND;TZID=America/Los_Angeles:20240802T190000
DTSTAMP:20260425T212020
CREATED:20240610T202734Z
LAST-MODIFIED:20240723T212949Z
UID:10000020-1722610800-1722625200@www.whalley-law.com
SUMMARY:Orting Farmers Market
DESCRIPTION:Farmers market where you can explore the Orting community and meet local vendors. \nWhalley Law will be attending on 6/28/24 and 7/5/2024.
URL:https://www.whalley-law.com/event/orting-farmers-market/2024-08-02/
LOCATION:Orting Farmers Market\, 101 Washington Ave N\, Orting\, WA\, 98360\, United States
CATEGORIES:Community Event,Tacoma Community Event
ATTACH;FMTTYPE=image/jpeg:https://www.whalley-law.com/wp-content/uploads/2024/06/ortingfmlogo-final-orig_2.jpg
END:VEVENT
BEGIN:VEVENT
DTSTART;VALUE=DATE:20240731
DTEND;VALUE=DATE:20240805
DTSTAMP:20260425T212020
CREATED:20240610T203323Z
LAST-MODIFIED:20240723T214247Z
UID:10000009-1722384000-1722815999@www.whalley-law.com
SUMMARY:Thurston County Fair
DESCRIPTION:2024 Fairground hours: 10-9 Wed & Thurs\, 10-10 Fri & Sat\, 10-8 Sun \nThurston County annual fair with carnival rides\, games\, and a Whalley Law tent among many other vendors. Come have a fun filled family day out. *Tickets available for purchase from Thurston County Fair
URL:https://www.whalley-law.com/event/thurston-county-fair/
LOCATION:Thurston County Fair\, 3000 Pacific Ave SE\, Olympia\, WA\, 98501\, United States
CATEGORIES:Community Event,Tacoma Community Event,Whalley Law Attending
ATTACH;FMTTYPE=image/png:https://www.whalley-law.com/wp-content/uploads/2024/06/thurston-county-fair-new-logo.png
END:VEVENT
BEGIN:VEVENT
DTSTART;TZID=America/Los_Angeles:20240727T090000
DTEND;TZID=America/Los_Angeles:20240727T090000
DTSTAMP:20260425T212020
CREATED:20240610T203623Z
LAST-MODIFIED:20240723T215150Z
UID:10000030-1722070800-1722070800@www.whalley-law.com
SUMMARY:Discovering Defiance: Drop in Hikes at Point Defiance
DESCRIPTION:Join locals for a leisurely hike with a Park Guide every Saturday\, beginning from the enchanting Rhododendron Garden at 9 am. The walks typically span 3 miles at a comfortable pace\, with the flexibility to adapt to participant interests and explore different routes each week.\nBest of all\, it’s free with no registration required. Simply show up prepared with water\, snacks\, weather-appropriate attire\, and any burning questions you may have for our knowledgeable Park Guide. \nhttps://www.metroparkstacoma.org/event/drop-in-hikes-at-point-defiance/
URL:https://www.whalley-law.com/event/discovering-defiance-drop-in-hikes-at-point-defiance/2024-07-27/
LOCATION:Point Defiance Park\, Five mile Rd\, Tacoma\, WA\, 98407\, United States
CATEGORIES:Community Event,Tacoma Community Event
ATTACH;FMTTYPE=image/jpeg:https://www.whalley-law.com/wp-content/uploads/2024/06/RDC_5050-copy-1024x684-1.jpg
END:VEVENT
BEGIN:VEVENT
DTSTART;TZID=America/Los_Angeles:20240726T150000
DTEND;TZID=America/Los_Angeles:20240726T190000
DTSTAMP:20260425T212020
CREATED:20240610T202734Z
LAST-MODIFIED:20240723T212949Z
UID:10000019-1722006000-1722020400@www.whalley-law.com
SUMMARY:Orting Farmers Market
DESCRIPTION:Farmers market where you can explore the Orting community and meet local vendors. \nWhalley Law will be attending on 6/28/24 and 7/5/2024.
URL:https://www.whalley-law.com/event/orting-farmers-market/2024-07-26/
LOCATION:Orting Farmers Market\, 101 Washington Ave N\, Orting\, WA\, 98360\, United States
CATEGORIES:Community Event,Tacoma Community Event
ATTACH;FMTTYPE=image/jpeg:https://www.whalley-law.com/wp-content/uploads/2024/06/ortingfmlogo-final-orig_2.jpg
END:VEVENT
BEGIN:VEVENT
DTSTART;TZID=America/Los_Angeles:20240720T090000
DTEND;TZID=America/Los_Angeles:20240720T090000
DTSTAMP:20260425T212020
CREATED:20240610T203623Z
LAST-MODIFIED:20240723T215150Z
UID:10000029-1721466000-1721466000@www.whalley-law.com
SUMMARY:Discovering Defiance: Drop in Hikes at Point Defiance
DESCRIPTION:Join locals for a leisurely hike with a Park Guide every Saturday\, beginning from the enchanting Rhododendron Garden at 9 am. The walks typically span 3 miles at a comfortable pace\, with the flexibility to adapt to participant interests and explore different routes each week.\nBest of all\, it’s free with no registration required. Simply show up prepared with water\, snacks\, weather-appropriate attire\, and any burning questions you may have for our knowledgeable Park Guide. \nhttps://www.metroparkstacoma.org/event/drop-in-hikes-at-point-defiance/
URL:https://www.whalley-law.com/event/discovering-defiance-drop-in-hikes-at-point-defiance/2024-07-20/
LOCATION:Point Defiance Park\, Five mile Rd\, Tacoma\, WA\, 98407\, United States
CATEGORIES:Community Event,Tacoma Community Event
ATTACH;FMTTYPE=image/jpeg:https://www.whalley-law.com/wp-content/uploads/2024/06/RDC_5050-copy-1024x684-1.jpg
END:VEVENT
BEGIN:VEVENT
DTSTART;TZID=America/Los_Angeles:20240719T150000
DTEND;TZID=America/Los_Angeles:20240719T190000
DTSTAMP:20260425T212020
CREATED:20240610T202734Z
LAST-MODIFIED:20240723T212949Z
UID:10000018-1721401200-1721415600@www.whalley-law.com
SUMMARY:Orting Farmers Market
DESCRIPTION:Farmers market where you can explore the Orting community and meet local vendors. \nWhalley Law will be attending on 6/28/24 and 7/5/2024.
URL:https://www.whalley-law.com/event/orting-farmers-market/2024-07-19/
LOCATION:Orting Farmers Market\, 101 Washington Ave N\, Orting\, WA\, 98360\, United States
CATEGORIES:Community Event,Tacoma Community Event
ATTACH;FMTTYPE=image/jpeg:https://www.whalley-law.com/wp-content/uploads/2024/06/ortingfmlogo-final-orig_2.jpg
END:VEVENT
BEGIN:VEVENT
DTSTART;TZID=America/Los_Angeles:20240713T090000
DTEND;TZID=America/Los_Angeles:20240713T090000
DTSTAMP:20260425T212020
CREATED:20240610T203623Z
LAST-MODIFIED:20240723T215150Z
UID:10000028-1720861200-1720861200@www.whalley-law.com
SUMMARY:Discovering Defiance: Drop in Hikes at Point Defiance
DESCRIPTION:Join locals for a leisurely hike with a Park Guide every Saturday\, beginning from the enchanting Rhododendron Garden at 9 am. The walks typically span 3 miles at a comfortable pace\, with the flexibility to adapt to participant interests and explore different routes each week.\nBest of all\, it’s free with no registration required. Simply show up prepared with water\, snacks\, weather-appropriate attire\, and any burning questions you may have for our knowledgeable Park Guide. \nhttps://www.metroparkstacoma.org/event/drop-in-hikes-at-point-defiance/
URL:https://www.whalley-law.com/event/discovering-defiance-drop-in-hikes-at-point-defiance/2024-07-13/
LOCATION:Point Defiance Park\, Five mile Rd\, Tacoma\, WA\, 98407\, United States
CATEGORIES:Community Event,Tacoma Community Event
ATTACH;FMTTYPE=image/jpeg:https://www.whalley-law.com/wp-content/uploads/2024/06/RDC_5050-copy-1024x684-1.jpg
END:VEVENT
BEGIN:VEVENT
DTSTART;TZID=America/Los_Angeles:20240712T150000
DTEND;TZID=America/Los_Angeles:20240712T190000
DTSTAMP:20260425T212020
CREATED:20240610T202734Z
LAST-MODIFIED:20240723T212949Z
UID:10000017-1720796400-1720810800@www.whalley-law.com
SUMMARY:Orting Farmers Market
DESCRIPTION:Farmers market where you can explore the Orting community and meet local vendors. \nWhalley Law will be attending on 6/28/24 and 7/5/2024.
URL:https://www.whalley-law.com/event/orting-farmers-market/2024-07-12/
LOCATION:Orting Farmers Market\, 101 Washington Ave N\, Orting\, WA\, 98360\, United States
CATEGORIES:Community Event,Tacoma Community Event
ATTACH;FMTTYPE=image/jpeg:https://www.whalley-law.com/wp-content/uploads/2024/06/ortingfmlogo-final-orig_2.jpg
END:VEVENT
BEGIN:VEVENT
DTSTART;TZID=America/Los_Angeles:20240706T090000
DTEND;TZID=America/Los_Angeles:20240706T090000
DTSTAMP:20260425T212020
CREATED:20240610T203623Z
LAST-MODIFIED:20240723T215150Z
UID:10000027-1720256400-1720256400@www.whalley-law.com
SUMMARY:Discovering Defiance: Drop in Hikes at Point Defiance
DESCRIPTION:Join locals for a leisurely hike with a Park Guide every Saturday\, beginning from the enchanting Rhododendron Garden at 9 am. The walks typically span 3 miles at a comfortable pace\, with the flexibility to adapt to participant interests and explore different routes each week.\nBest of all\, it’s free with no registration required. Simply show up prepared with water\, snacks\, weather-appropriate attire\, and any burning questions you may have for our knowledgeable Park Guide. \nhttps://www.metroparkstacoma.org/event/drop-in-hikes-at-point-defiance/
URL:https://www.whalley-law.com/event/discovering-defiance-drop-in-hikes-at-point-defiance/2024-07-06/
LOCATION:Point Defiance Park\, Five mile Rd\, Tacoma\, WA\, 98407\, United States
CATEGORIES:Community Event,Tacoma Community Event
ATTACH;FMTTYPE=image/jpeg:https://www.whalley-law.com/wp-content/uploads/2024/06/RDC_5050-copy-1024x684-1.jpg
END:VEVENT
BEGIN:VEVENT
DTSTART;TZID=America/Los_Angeles:20240705T150000
DTEND;TZID=America/Los_Angeles:20240705T190000
DTSTAMP:20260425T212020
CREATED:20240610T202734Z
LAST-MODIFIED:20240723T212949Z
UID:10000016-1720191600-1720206000@www.whalley-law.com
SUMMARY:Orting Farmers Market
DESCRIPTION:Farmers market where you can explore the Orting community and meet local vendors. \nWhalley Law will be attending on 6/28/24 and 7/5/2024.
URL:https://www.whalley-law.com/event/orting-farmers-market/2024-07-05/
LOCATION:Orting Farmers Market\, 101 Washington Ave N\, Orting\, WA\, 98360\, United States
CATEGORIES:Community Event,Tacoma Community Event
ATTACH;FMTTYPE=image/jpeg:https://www.whalley-law.com/wp-content/uploads/2024/06/ortingfmlogo-final-orig_2.jpg
END:VEVENT
BEGIN:VEVENT
DTSTART;TZID=America/Los_Angeles:20240704T120000
DTEND;TZID=America/Los_Angeles:20240704T223000
DTSTAMP:20260425T212020
CREATED:20240610T203757Z
LAST-MODIFIED:20240610T203757Z
UID:10000010-1720094400-1720132200@www.whalley-law.com
SUMMARY:Tacoma’s 4th of July Summer Blast is the City of Tacoma’s official 4th of July Celebration
DESCRIPTION:Experience a full day of family fun at the free event featuring live music\, delectable food\, captivating entertainment\, and a diverse array of craft vendors. Festivities kick off at noon and culminate in a spectacular fireworks display over the Commencement Bay at around 10 p.m. \nLocation: Ruston Way Waterfront
URL:https://www.whalley-law.com/event/tacomas-4th-of-july-summer-blast-is-the-city-of-tacomas-official-4th-of-july-celebration/
LOCATION:WA
CATEGORIES:Community Event,Tacoma Community Event
END:VEVENT
BEGIN:VEVENT
DTSTART;TZID=America/Los_Angeles:20240629T090000
DTEND;TZID=America/Los_Angeles:20240629T090000
DTSTAMP:20260425T212020
CREATED:20240610T203623Z
LAST-MODIFIED:20240723T215150Z
UID:10000026-1719651600-1719651600@www.whalley-law.com
SUMMARY:Discovering Defiance: Drop in Hikes at Point Defiance
DESCRIPTION:Join locals for a leisurely hike with a Park Guide every Saturday\, beginning from the enchanting Rhododendron Garden at 9 am. The walks typically span 3 miles at a comfortable pace\, with the flexibility to adapt to participant interests and explore different routes each week.\nBest of all\, it’s free with no registration required. Simply show up prepared with water\, snacks\, weather-appropriate attire\, and any burning questions you may have for our knowledgeable Park Guide. \nhttps://www.metroparkstacoma.org/event/drop-in-hikes-at-point-defiance/
URL:https://www.whalley-law.com/event/discovering-defiance-drop-in-hikes-at-point-defiance/2024-06-29/
LOCATION:Point Defiance Park\, Five mile Rd\, Tacoma\, WA\, 98407\, United States
CATEGORIES:Community Event,Tacoma Community Event
ATTACH;FMTTYPE=image/jpeg:https://www.whalley-law.com/wp-content/uploads/2024/06/RDC_5050-copy-1024x684-1.jpg
END:VEVENT
BEGIN:VEVENT
DTSTART;TZID=America/Los_Angeles:20240628T150000
DTEND;TZID=America/Los_Angeles:20240628T190000
DTSTAMP:20260425T212020
CREATED:20240610T202734Z
LAST-MODIFIED:20240723T212949Z
UID:10000015-1719586800-1719601200@www.whalley-law.com
SUMMARY:Orting Farmers Market
DESCRIPTION:Farmers market where you can explore the Orting community and meet local vendors. \nWhalley Law will be attending on 6/28/24 and 7/5/2024.
URL:https://www.whalley-law.com/event/orting-farmers-market/2024-06-28/
LOCATION:Orting Farmers Market\, 101 Washington Ave N\, Orting\, WA\, 98360\, United States
CATEGORIES:Community Event,Tacoma Community Event
ATTACH;FMTTYPE=image/jpeg:https://www.whalley-law.com/wp-content/uploads/2024/06/ortingfmlogo-final-orig_2.jpg
END:VEVENT
BEGIN:VEVENT
DTSTART;TZID=America/Los_Angeles:20240622T090000
DTEND;TZID=America/Los_Angeles:20240622T090000
DTSTAMP:20260425T212020
CREATED:20240610T203623Z
LAST-MODIFIED:20240723T215150Z
UID:10000025-1719046800-1719046800@www.whalley-law.com
SUMMARY:Discovering Defiance: Drop in Hikes at Point Defiance
DESCRIPTION:Join locals for a leisurely hike with a Park Guide every Saturday\, beginning from the enchanting Rhododendron Garden at 9 am. The walks typically span 3 miles at a comfortable pace\, with the flexibility to adapt to participant interests and explore different routes each week.\nBest of all\, it’s free with no registration required. Simply show up prepared with water\, snacks\, weather-appropriate attire\, and any burning questions you may have for our knowledgeable Park Guide. \nhttps://www.metroparkstacoma.org/event/drop-in-hikes-at-point-defiance/
URL:https://www.whalley-law.com/event/discovering-defiance-drop-in-hikes-at-point-defiance/2024-06-22/
LOCATION:Point Defiance Park\, Five mile Rd\, Tacoma\, WA\, 98407\, United States
CATEGORIES:Community Event,Tacoma Community Event
ATTACH;FMTTYPE=image/jpeg:https://www.whalley-law.com/wp-content/uploads/2024/06/RDC_5050-copy-1024x684-1.jpg
END:VEVENT
BEGIN:VEVENT
DTSTART;TZID=America/Los_Angeles:20240621T150000
DTEND;TZID=America/Los_Angeles:20240621T190000
DTSTAMP:20260425T212020
CREATED:20240610T202734Z
LAST-MODIFIED:20240723T212949Z
UID:10000014-1718982000-1718996400@www.whalley-law.com
SUMMARY:Orting Farmers Market
DESCRIPTION:Farmers market where you can explore the Orting community and meet local vendors. \nWhalley Law will be attending on 6/28/24 and 7/5/2024.
URL:https://www.whalley-law.com/event/orting-farmers-market/2024-06-21/
LOCATION:Orting Farmers Market\, 101 Washington Ave N\, Orting\, WA\, 98360\, United States
CATEGORIES:Community Event,Tacoma Community Event
ATTACH;FMTTYPE=image/jpeg:https://www.whalley-law.com/wp-content/uploads/2024/06/ortingfmlogo-final-orig_2.jpg
END:VEVENT
BEGIN:VEVENT
DTSTART;TZID=America/Los_Angeles:20240615T090000
DTEND;TZID=America/Los_Angeles:20240615T090000
DTSTAMP:20260425T212020
CREATED:20240610T203623Z
LAST-MODIFIED:20240723T215150Z
UID:10000012-1718442000-1718442000@www.whalley-law.com
SUMMARY:Discovering Defiance: Drop in Hikes at Point Defiance
DESCRIPTION:Join locals for a leisurely hike with a Park Guide every Saturday\, beginning from the enchanting Rhododendron Garden at 9 am. The walks typically span 3 miles at a comfortable pace\, with the flexibility to adapt to participant interests and explore different routes each week.\nBest of all\, it’s free with no registration required. Simply show up prepared with water\, snacks\, weather-appropriate attire\, and any burning questions you may have for our knowledgeable Park Guide. \nhttps://www.metroparkstacoma.org/event/drop-in-hikes-at-point-defiance/
URL:https://www.whalley-law.com/event/discovering-defiance-drop-in-hikes-at-point-defiance/2024-06-15/
LOCATION:Point Defiance Park\, Five mile Rd\, Tacoma\, WA\, 98407\, United States
CATEGORIES:Community Event,Tacoma Community Event
ATTACH;FMTTYPE=image/jpeg:https://www.whalley-law.com/wp-content/uploads/2024/06/RDC_5050-copy-1024x684-1.jpg
END:VEVENT
BEGIN:VEVENT
DTSTART;TZID=America/Los_Angeles:20240614T150000
DTEND;TZID=America/Los_Angeles:20240614T190000
DTSTAMP:20260425T212020
CREATED:20240610T202734Z
LAST-MODIFIED:20240723T212949Z
UID:10000013-1718377200-1718391600@www.whalley-law.com
SUMMARY:Orting Farmers Market
DESCRIPTION:Farmers market where you can explore the Orting community and meet local vendors. \nWhalley Law will be attending on 6/28/24 and 7/5/2024.
URL:https://www.whalley-law.com/event/orting-farmers-market/2024-06-14/
LOCATION:Orting Farmers Market\, 101 Washington Ave N\, Orting\, WA\, 98360\, United States
CATEGORIES:Community Event,Tacoma Community Event
ATTACH;FMTTYPE=image/jpeg:https://www.whalley-law.com/wp-content/uploads/2024/06/ortingfmlogo-final-orig_2.jpg
END:VEVENT
BEGIN:VEVENT
DTSTART;TZID=America/Los_Angeles:20240607T150000
DTEND;TZID=America/Los_Angeles:20240607T190000
DTSTAMP:20260425T212020
CREATED:20240610T202734Z
LAST-MODIFIED:20240723T212949Z
UID:10000008-1717772400-1717786800@www.whalley-law.com
SUMMARY:Orting Farmers Market
DESCRIPTION:Farmers market where you can explore the Orting community and meet local vendors. \nWhalley Law will be attending on 6/28/24 and 7/5/2024.
URL:https://www.whalley-law.com/event/orting-farmers-market/2024-06-07/
LOCATION:Orting Farmers Market\, 101 Washington Ave N\, Orting\, WA\, 98360\, United States
CATEGORIES:Community Event,Tacoma Community Event
ATTACH;FMTTYPE=image/jpeg:https://www.whalley-law.com/wp-content/uploads/2024/06/ortingfmlogo-final-orig_2.jpg
END:VEVENT
END:VCALENDAR